BEGIN:VCALENDAR
VERSION:2.0
PRODID:-//ChamberMaster//Event Calendar 2.0//EN
METHOD:PUBLISH
X-PUBLISHED-TTL:P3D
REFRESH-INTERVAL:P3D
CALSCALE:GREGORIAN
BEGIN:VEVENT
DTSTART:20330801T230000Z
DTEND:20330802T003000Z
X-MICROSOFT-CDO-ALLDAYEVENT:FALSE
SUMMARY:Walker City Council Meeting
DESCRIPTION:
X-ALT-DESC;FMTTYPE=text/html:
LOCATION:
UID:e.11.49473
SEQUENCE:3
DTSTAMP:20260420T001033Z
URL:https://leechlake.mobileappview.com/events/details/city-council-meeting-08-01-2033-49473
END:VEVENT

END:VCALENDAR
