BEGIN:VCALENDAR
VERSION:2.0
PRODID:-//ChamberMaster//Event Calendar 2.0//EN
METHOD:PUBLISH
X-PUBLISHED-TTL:P3D
REFRESH-INTERVAL:P3D
CALSCALE:GREGORIAN
BEGIN:VEVENT
DTSTART:20331003T230000Z
DTEND:20331004T003000Z
X-MICROSOFT-CDO-ALLDAYEVENT:FALSE
SUMMARY:Walker City Council Meeting
DESCRIPTION:
X-ALT-DESC;FMTTYPE=text/html:
LOCATION:
UID:e.11.49475
SEQUENCE:3
DTSTAMP:20260420T033042Z
URL:https://leechlake.mobileappview.com/events/details/city-council-meeting-10-03-2033-49475
END:VEVENT

END:VCALENDAR
