BEGIN:VCALENDAR
VERSION:2.0
PRODID:-//ChamberMaster//Event Calendar 2.0//EN
METHOD:PUBLISH
X-PUBLISHED-TTL:P3D
REFRESH-INTERVAL:P3D
CALSCALE:GREGORIAN
BEGIN:VEVENT
DTSTART:20180920T230000Z
DTEND:20180921T030000Z
X-MICROSOFT-CDO-ALLDAYEVENT:FALSE
SUMMARY:Ducks Unlimited Banquet
DESCRIPTION:More information forth coming.   TBD
X-ALT-DESC;FMTTYPE=text/html:More information forth coming.&nbsp\; &nbsp\;TBD
LOCATION:
UID:e.11.12196
SEQUENCE:3
DTSTAMP:20260420T050958Z
URL:https://leechlake.mobileappview.com/events/details/ducks-unlimited-banquet-12196
END:VEVENT

END:VCALENDAR
