BEGIN:VCALENDAR
VERSION:2.0
PRODID:-//ChamberMaster//Event Calendar 2.0//EN
METHOD:PUBLISH
X-PUBLISHED-TTL:P3D
REFRESH-INTERVAL:P3D
CALSCALE:GREGORIAN
BEGIN:VEVENT
DTSTART:20170711T140000Z
DTEND:20170711T150000Z
X-MICROSOFT-CDO-ALLDAYEVENT:FALSE
SUMMARY:Living with Diabetes
DESCRIPTION:Held the second Tuesday of every month from 9-10 am in the CHI St Joseph's Health Lower Level Conference Room A.. For more information\, contact Judy Miller  218-616-3310
X-ALT-DESC;FMTTYPE=text/html:Held the second Tuesday of every month from 9-10 am in the CHI St Joseph&#39\;s Health Lower Level Conference&nbsp\;Room A.. For more information\, contact Judy Miller &nbsp\;218-616-3310
LOCATION:
UID:e.11.10559
SEQUENCE:3
DTSTAMP:20260421T025757Z
URL:https://leechlake.mobileappview.com/events/details/living-with-diabetes-10559
END:VEVENT

END:VCALENDAR
