BEGIN:VCALENDAR
VERSION:2.0
PRODID:-//ChamberMaster//Event Calendar 2.0//EN
METHOD:PUBLISH
X-PUBLISHED-TTL:P3D
REFRESH-INTERVAL:P3D
CALSCALE:GREGORIAN
BEGIN:VEVENT
DTSTART;VALUE=DATE:20170808
DTEND;VALUE=DATE:20170809
TRANSP:TRANSPARENT
X-MICROSOFT-CDO-ALLDAYEVENT:TRUE
SUMMARY:Living with Diabetes
DESCRIPTION:Held the second Tuesday of every month from 9-10 am in CHI St. Joseph's Health Lower Level Conference Room A.
X-ALT-DESC;FMTTYPE=text/html:Held the second Tuesday of every month from 9-10 am in CHI St. Joseph&#39\;s Health Lower Level Conference Room A.
LOCATION:
UID:e.11.10599
SEQUENCE:3
DTSTAMP:20260421T011345Z
URL:https://leechlake.mobileappview.com/events/details/living-with-diabetes-10599
END:VEVENT

END:VCALENDAR
