BEGIN:VCALENDAR
VERSION:2.0
PRODID:-//ChamberMaster//Event Calendar 2.0//EN
METHOD:PUBLISH
X-PUBLISHED-TTL:P3D
REFRESH-INTERVAL:P3D
CALSCALE:GREGORIAN
BEGIN:VEVENT
DTSTART;VALUE=DATE:20170509
DTEND;VALUE=DATE:20170510
TRANSP:TRANSPARENT
X-MICROSOFT-CDO-ALLDAYEVENT:TRUE
SUMMARY:Living with Diabetes
DESCRIPTION:
X-ALT-DESC;FMTTYPE=text/html:
LOCATION:Held the second Tuesday of every month from 9-10 a..m. in CHI St. Joseph's Health Lower Level Conference Room A.
UID:e.11.9456
SEQUENCE:3
DTSTAMP:20260421T061439Z
URL:https://leechlake.mobileappview.com/events/details/living-with-diabetes-9456
END:VEVENT

END:VCALENDAR
