BEGIN:VCALENDAR
VERSION:2.0
PRODID:-//ChamberMaster//Event Calendar 2.0//EN
METHOD:PUBLISH
X-PUBLISHED-TTL:P3D
REFRESH-INTERVAL:P3D
CALSCALE:GREGORIAN
BEGIN:VEVENT
DTSTART:20170613T140000Z
DTEND:20170613T150000Z
X-MICROSOFT-CDO-ALLDAYEVENT:FALSE
SUMMARY:Living with Diabetes
DESCRIPTION:Held the second Tuesday of every month from 9-10 am in CHI St. Joseph's Health Lower Level Conference Room A.
X-ALT-DESC;FMTTYPE=text/html:Held the second Tuesday of every month from 9-10 am in CHI St.&nbsp\;Joseph&#39\;s Health Lower Level Conference Room A.
LOCATION:
UID:e.11.9503
SEQUENCE:3
DTSTAMP:20260421T043402Z
URL:https://leechlake.mobileappview.com/events/details/living-with-diabetes-9503
END:VEVENT

END:VCALENDAR
