BEGIN:VCALENDAR
VERSION:2.0
PRODID:-//ChamberMaster//Event Calendar 2.0//EN
METHOD:PUBLISH
X-PUBLISHED-TTL:P3D
REFRESH-INTERVAL:P3D
CALSCALE:GREGORIAN
BEGIN:VEVENT
DTSTART:20180405T150000Z
DTEND:20180405T170000Z
X-MICROSOFT-CDO-ALLDAYEVENT:FALSE
SUMMARY:Lodging Workforce Study in Cass and Crow Wing Counties
DESCRIPTION:Researchers from the University of Minnesota Tourism Center and Minnesota Department of Employment and Economic Development (DEED) have been examining the workforce challenges and success strategies of lodging businesses - resorts\, hotels\, and campgrounds - in Cass and Crow Wing Counties. \n\n \n\nResearchers from the University of Minnesota Tourism Center and Minnesota Department of Employment and Economic Development (DEED) have been examining the workforce challenges and success strategies of lodging businesses - resorts\, hotels\, and campgrounds - in Cass and Crow Wing Counties. \n\n\n\nYou are invited to learn about the findings and engage in a conversation about strategies for lodging businesses to address workforce needs. \n\n A light lunch will be served
X-ALT-DESC;FMTTYPE=text/html:Researchers from the University of Minnesota Tourism Center and Minnesota Department of Employment and Economic Development (DEED) have been examining the workforce challenges and success strategies of lodging businesses - resorts\, hotels\, and campgrounds - in Cass and Crow Wing Counties.&nbsp\;<br />\n&nbsp\;<br />\nResearchers from the University of Minnesota Tourism Center and Minnesota Department of Employment and Economic Development (DEED) have been examining the workforce challenges and success strategies of lodging businesses - resorts\, hotels\, and campgrounds - in Cass and Crow Wing Counties.&nbsp\;<br />\n<br />\nYou are invited to learn about the findings and engage in a conversation about strategies for lodging businesses to address workforce needs.&nbsp\;<br />\n&nbsp\;<span style="background:white\;"><span style="color:#222222\;"><span style="font-family:arial\,sans-serif\;"><span style="font-size:12.0pt\;">A light lunch will be served</span></span></span></span>&nbsp\;<br />\n&nbsp\;
LOCATION:Leech Lake Area Chamber of Commerce 201 Minnesota Ave E. Walker\, MN 56484
UID:e.11.16162
SEQUENCE:3
DTSTAMP:20260420T122210Z
URL:https://leechlake.mobileappview.com/events/details/lodging-workforce-study-in-cass-and-crow-wing-counties-16162
END:VEVENT

END:VCALENDAR
