BEGIN:VCALENDAR
VERSION:2.0
PRODID:-//ChamberMaster//Event Calendar 2.0//EN
METHOD:PUBLISH
X-PUBLISHED-TTL:P3D
REFRESH-INTERVAL:P3D
CALSCALE:GREGORIAN
BEGIN:VEVENT
DTSTART:20190316T190000Z
DTEND:20190316T210000Z
X-MICROSOFT-CDO-ALLDAYEVENT:FALSE
SUMMARY:Luck O'The Irish Concert
DESCRIPTION:Click Here\n\nLuck o the Irish Concert
X-ALT-DESC;FMTTYPE=text/html:<a href="https://chambermaster.blob.core.windows.net/userfiles/UserFiles/chambers/11/File/irish.pdf">Click Here</a><br />\nLuck o the Irish Concert
LOCATION:Communityu Church of Walker
UID:e.11.19722
SEQUENCE:3
DTSTAMP:20260419T200247Z
URL:https://leechlake.mobileappview.com/events/details/luck-o-the-irish-concert-19722
END:VEVENT

END:VCALENDAR
