BEGIN:VCALENDAR
VERSION:2.0
PRODID:-//ChamberMaster//Event Calendar 2.0//EN
METHOD:PUBLISH
X-PUBLISHED-TTL:P3D
REFRESH-INTERVAL:P3D
CALSCALE:GREGORIAN
BEGIN:VEVENT
DTSTART:20160313T190000Z
DTEND:20160313T210000Z
X-MICROSOFT-CDO-ALLDAYEVENT:FALSE
SUMMARY:Luck of the Irish Concert- Community Church of Walker
DESCRIPTION:Featuring the Celtic Musical Group "CALEIGH"\n\n\n\nFree Will Offering to benefit Area Food Shelves
X-ALT-DESC;FMTTYPE=text/html:Featuring the Celtic Musical Group &quot\;CALEIGH&quot\;<br />\n<br />\nFree Will Offering to benefit Area Food Shelves
LOCATION:Community Church of Walker\, UCC Hwy 371 and Tianna Drive
UID:e.11.5277
SEQUENCE:3
DTSTAMP:20260422T050427Z
URL:https://leechlake.mobileappview.com/events/details/luck-of-the-irish-concert-community-church-of-walker-03-13-2016-5277
END:VEVENT

END:VCALENDAR
