BEGIN:VCALENDAR
VERSION:2.0
PRODID:-//ChamberMaster//Event Calendar 2.0//EN
METHOD:PUBLISH
X-PUBLISHED-TTL:P3D
REFRESH-INTERVAL:P3D
CALSCALE:GREGORIAN
BEGIN:VEVENT
DTSTART;VALUE=DATE:20170312
DTEND;VALUE=DATE:20170313
TRANSP:TRANSPARENT
X-MICROSOFT-CDO-ALLDAYEVENT:TRUE
SUMMARY:Luck of the Irish Concert - Community Church of Walker
DESCRIPTION:Free Will offering to Benefit Walker Area Food Shelves
X-ALT-DESC;FMTTYPE=text/html:Free Will offering to Benefit Walker Area Food Shelves
LOCATION:Community Church of Walker Hwy 371 and Tianna Drive
UID:e.11.9030
SEQUENCE:3
DTSTAMP:20260421T094037Z
URL:https://leechlake.mobileappview.com/events/details/luck-of-the-irish-concert-community-church-of-walker-9030
END:VEVENT

END:VCALENDAR
