BEGIN:VCALENDAR
VERSION:2.0
PRODID:-//ChamberMaster//Event Calendar 2.0//EN
METHOD:PUBLISH
X-PUBLISHED-TTL:P3D
REFRESH-INTERVAL:P3D
CALSCALE:GREGORIAN
BEGIN:VEVENT
DTSTART:20160301T180000Z
DTEND:20160301T190000Z
X-MICROSOFT-CDO-ALLDAYEVENT:FALSE
SUMMARY:Lunch and Learn - Diabetic Foot Concerns
DESCRIPTION:This seminar is free of charge and lunch is provided!  If interested\, please RSVP
X-ALT-DESC;FMTTYPE=text/html:This seminar is free of charge and lunch is provided! &nbsp\;If interested\, please RSVP&nbsp\;
LOCATION:St. John's Lutheran Church 803 West First Street Park Rapids
UID:e.11.7282
SEQUENCE:3
DTSTAMP:20260422T045531Z
URL:https://leechlake.mobileappview.com/events/details/lunch-and-learn-diabetic-foot-concerns-03-01-2016-7282
END:VEVENT

END:VCALENDAR
