BEGIN:VCALENDAR
VERSION:2.0
PRODID:-//ChamberMaster//Event Calendar 2.0//EN
METHOD:PUBLISH
X-PUBLISHED-TTL:P3D
REFRESH-INTERVAL:P3D
CALSCALE:GREGORIAN
BEGIN:VEVENT
DTSTART:20180426T170000Z
DTEND:20180426T180000Z
X-MICROSOFT-CDO-ALLDAYEVENT:FALSE
SUMMARY:Lunch & Lean Healthy Eating & Supplements for Srs.
DESCRIPTION:
X-ALT-DESC;FMTTYPE=text/html:
LOCATION:
UID:e.11.16367
SEQUENCE:3
DTSTAMP:20260420T123941Z
URL:https://leechlake.mobileappview.com/events/details/lunch-lean-healthy-eating-supplements-for-srs-16367
END:VEVENT

END:VCALENDAR
