BEGIN:VCALENDAR
VERSION:2.0
PRODID:-//ChamberMaster//Event Calendar 2.0//EN
METHOD:PUBLISH
X-PUBLISHED-TTL:P3D
REFRESH-INTERVAL:P3D
CALSCALE:GREGORIAN
BEGIN:VEVENT
DTSTART:20170725T170000Z
DTEND:20170725T180000Z
X-MICROSOFT-CDO-ALLDAYEVENT:FALSE
SUMMARY:Lunch & Learn - Essentia Clinic
DESCRIPTION:Life Care Planning Basics Health Care Directives\n\nPower of attorney & More
X-ALT-DESC;FMTTYPE=text/html:Life Care Planning Basics Health Care Directives<br />\nPower of attorney &amp\; More
LOCATION:St. John's Lutheran Church Park Rapids
UID:e.11.10574
SEQUENCE:3
DTSTAMP:20260421T025653Z
URL:https://leechlake.mobileappview.com/events/details/lunch-learn-essentia-clinic-10574
END:VEVENT

END:VCALENDAR
