BEGIN:VCALENDAR
VERSION:2.0
PRODID:-//ChamberMaster//Event Calendar 2.0//EN
METHOD:PUBLISH
X-PUBLISHED-TTL:P3D
REFRESH-INTERVAL:P3D
CALSCALE:GREGORIAN
BEGIN:VEVENT
DTSTART:20161021T170000Z
DTEND:20161021T190000Z
X-MICROSOFT-CDO-ALLDAYEVENT:FALSE
SUMMARY:Lunch & Learn Skin Cancer
DESCRIPTION:Essentia Health Park Rapids Clinic presents a \n\nLunch & Learn\n\nSkin Cancer
X-ALT-DESC;FMTTYPE=text/html:Essentia Health Park Rapids Clinic presents a&nbsp\;<br />\nLunch &amp\; Learn<br />\nSkin Cancer
LOCATION:St. John's Lutheran Church 803 West First Street/Park Rapids
UID:e.11.9031
SEQUENCE:3
DTSTAMP:20260421T173656Z
URL:https://leechlake.mobileappview.com/events/details/lunch-learn-skin-cancer-9031
END:VEVENT

END:VCALENDAR
