BEGIN:VCALENDAR
VERSION:2.0
PRODID:-//ChamberMaster//Event Calendar 2.0//EN
METHOD:PUBLISH
X-PUBLISHED-TTL:P3D
REFRESH-INTERVAL:P3D
CALSCALE:GREGORIAN
BEGIN:VEVENT
DTSTART:20160404T233000Z
DTEND:20160405T010000Z
X-MICROSOFT-CDO-ALLDAYEVENT:FALSE
SUMMARY:Lyme disease-what you need to know
DESCRIPTION:What yo need to know
X-ALT-DESC;FMTTYPE=text/html:What yo need to know
LOCATION:WHA
UID:e.11.8296
SEQUENCE:3
DTSTAMP:20260422T031433Z
URL:https://leechlake.mobileappview.com/events/details/lyme-disease-what-you-need-to-know-04-04-2016-8296
END:VEVENT

END:VCALENDAR
