BEGIN:VCALENDAR
VERSION:2.0
PRODID:-//ChamberMaster//Event Calendar 2.0//EN
METHOD:PUBLISH
X-PUBLISHED-TTL:P3D
REFRESH-INTERVAL:P3D
CALSCALE:GREGORIAN
BEGIN:VEVENT
DTSTART:20170527T170000Z
DTEND:20170527T200000Z
X-MICROSOFT-CDO-ALLDAYEVENT:FALSE
SUMMARY:Lyz Jaakola "Traditional Anishinaabe Music"
DESCRIPTION:Join us at the Walker Public Library on Saturday\, May 27th at noon as Lyz Jaakola presents a wonderful program on the importance of music and its value in the Ojibwe-Anishinaabe Culture..
X-ALT-DESC;FMTTYPE=text/html:Join us at the Walker Public Library on Saturday\, May 27th at noon as Lyz Jaakola presents a wonderful program on the importance of music and its value in the Ojibwe-Anishinaabe Culture..
LOCATION:Walker Public Library
UID:e.11.9491
SEQUENCE:3
DTSTAMP:20260421T062052Z
URL:https://leechlake.mobileappview.com/events/details/lyz-jaakola-traditional-anishinaabe-music-9491
END:VEVENT

END:VCALENDAR
