BEGIN:VCALENDAR
VERSION:2.0
PRODID:-//ChamberMaster//Event Calendar 2.0//EN
METHOD:PUBLISH
X-PUBLISHED-TTL:P3D
REFRESH-INTERVAL:P3D
CALSCALE:GREGORIAN
BEGIN:VEVENT
DTSTART:20160524T000000Z
DTEND:20160524T020000Z
X-MICROSOFT-CDO-ALLDAYEVENT:FALSE
SUMMARY:Mary 4 Martha 3 No Footnotes
DESCRIPTION:The Mask & Rose Theater in collaboration with MN Folklore Theater presents:  Mary 4 Martha 3 No Footnotes\n\nMary Hemingway was born in Walker\, MN and raised in Bemidji\, MN and this play explores the life of Mary and other fascinating women in Ernest Hemingway's mercurial life.
X-ALT-DESC;FMTTYPE=text/html:The Mask &amp\; Rose Theater in collaboration with MN Folklore Theater presents: &nbsp\;Mary 4 Martha 3 No Footnotes<br />\nMary Hemingway was born in Walker\, MN and raised in Bemidji\, MN and this play explores the life of Mary and other fascinating women in Ernest Hemingway&#39\;s mercurial life.
LOCATION:The Walker Bay Theater 100 Highland Ave. Walker\, MN 56484
UID:e.11.8318
SEQUENCE:3
DTSTAMP:20260422T014045Z
URL:https://leechlake.mobileappview.com/events/details/mary-4-martha-3-no-footnotes-05-23-2016-8318
END:VEVENT

END:VCALENDAR
