BEGIN:VCALENDAR
VERSION:2.0
PRODID:-//ChamberMaster//Event Calendar 2.0//EN
METHOD:PUBLISH
X-PUBLISHED-TTL:P3D
REFRESH-INTERVAL:P3D
CALSCALE:GREGORIAN
BEGIN:VEVENT
DTSTART;VALUE=DATE:20181114
DTEND;VALUE=DATE:20181115
TRANSP:TRANSPARENT
X-MICROSOFT-CDO-ALLDAYEVENT:TRUE
SUMMARY:Meat Raffle @ Charlies
DESCRIPTION:Proceeds go to Leech Lake Youth Hockey Association.
X-ALT-DESC;FMTTYPE=text/html:Proceeds go to Leech Lake Youth Hockey Association.
LOCATION:
UID:e.11.18601
SEQUENCE:3
DTSTAMP:20260420T021821Z
URL:https://leechlake.mobileappview.com/events/details/meat-raffle-charlies-11-14-2018-18601
END:VEVENT

END:VCALENDAR
