BEGIN:VCALENDAR
VERSION:2.0
PRODID:-//ChamberMaster//Event Calendar 2.0//EN
METHOD:PUBLISH
X-PUBLISHED-TTL:P3D
REFRESH-INTERVAL:P3D
CALSCALE:GREGORIAN
BEGIN:VEVENT
DTSTART:20190306T000000Z
DTEND:20190306T020000Z
X-MICROSOFT-CDO-ALLDAYEVENT:FALSE
SUMMARY:Meditation and Relaxation
DESCRIPTION:Click Here\n\nYou will learn some simple meditation techniques and other ways to relaxations using teas\, bath soaks and aromatherapy
X-ALT-DESC;FMTTYPE=text/html:<a href="https://chambermaster.blob.core.windows.net/userfiles/UserFiles/chambers/11/File/stonewoman.pdf">Click Here</a><br />\nYou will learn some simple meditation techniques and other ways to relaxations using teas\, bath soaks and aromatherapy
LOCATION:103 5th St. S. Walker\, MN
UID:e.11.19599
SEQUENCE:3
DTSTAMP:20260419T200011Z
URL:https://leechlake.mobileappview.com/events/details/meditation-and-relaxation-19599
END:VEVENT

END:VCALENDAR
