BEGIN:VCALENDAR
VERSION:2.0
PRODID:-//ChamberMaster//Event Calendar 2.0//EN
METHOD:PUBLISH
X-PUBLISHED-TTL:P3D
REFRESH-INTERVAL:P3D
CALSCALE:GREGORIAN
BEGIN:VEVENT
DTSTART:20180524T140000Z
DTEND:20180524T220000Z
X-MICROSOFT-CDO-ALLDAYEVENT:FALSE
SUMMARY:Memorial Day Art Show and Sale-Leech Lake Arst League
DESCRIPTION:Samples of Art by Members of Leech Lake Arts League
X-ALT-DESC;FMTTYPE=text/html:Samples of Art by Members of Leech Lake Arts League
LOCATION:1st National Bank of Walker
UID:e.11.11852
SEQUENCE:3
DTSTAMP:20260420T111532Z
URL:https://leechlake.mobileappview.com/events/details/memorial-day-art-show-and-sale-leech-lake-arst-league-11852
END:VEVENT

END:VCALENDAR
