BEGIN:VCALENDAR
VERSION:2.0
PRODID:-//ChamberMaster//Event Calendar 2.0//EN
METHOD:PUBLISH
X-PUBLISHED-TTL:P3D
REFRESH-INTERVAL:P3D
CALSCALE:GREGORIAN
BEGIN:VEVENT
DTSTART:20160721T170000Z
DTEND:20160721T190000Z
X-MICROSOFT-CDO-ALLDAYEVENT:FALSE
SUMMARY:Memory Care Clinic - Essentia Health
DESCRIPTION:this seminar is Free of charge and lunch is provided\n\n\n\nLunch and Learn
X-ALT-DESC;FMTTYPE=text/html:this seminar is Free of charge and lunch is provided<br />\n<br />\nLunch and Learn
LOCATION:St. John's Lutheran Church 803 West First Street Park Rapids
UID:e.11.8839
SEQUENCE:3
DTSTAMP:20260421T223836Z
URL:https://leechlake.mobileappview.com/events/details/memory-care-clinic-essentia-health-07-21-2016-8839
END:VEVENT

END:VCALENDAR
