BEGIN:VCALENDAR
VERSION:2.0
PRODID:-//ChamberMaster//Event Calendar 2.0//EN
METHOD:PUBLISH
X-PUBLISHED-TTL:P3D
REFRESH-INTERVAL:P3D
CALSCALE:GREGORIAN
BEGIN:VEVENT
DTSTART;VALUE=DATE:20180720
DTEND;VALUE=DATE:20180723
TRANSP:TRANSPARENT
X-MICROSOFT-CDO-ALLDAYEVENT:TRUE
SUMMARY:Mi Gwitch Mohnomen Days Days 55th Annual Traditional Pow Wow
DESCRIPTION:55th Annual Traditional Pow Wow
X-ALT-DESC;FMTTYPE=text/html:55th Annual Traditional Pow Wow
LOCATION:Ball Club MN 56636
UID:e.11.16554
SEQUENCE:3
DTSTAMP:20260420T075418Z
URL:https://leechlake.mobileappview.com/events/details/mi-gwitch-mohnomen-days-days-55th-annual-traditional-pow-wow-16554
END:VEVENT

END:VCALENDAR
