BEGIN:VCALENDAR
VERSION:2.0
PRODID:-//ChamberMaster//Event Calendar 2.0//EN
METHOD:PUBLISH
X-PUBLISHED-TTL:P3D
REFRESH-INTERVAL:P3D
CALSCALE:GREGORIAN
BEGIN:VEVENT
DTSTART:20160916T000000Z
DTEND:20160916T020000Z
X-MICROSOFT-CDO-ALLDAYEVENT:FALSE
SUMMARY:Migration to the Western Hemisphere part 3
DESCRIPTION:Part 3 of lecture series:  Modern Humans:  A Travelogue\n\nPresented by Dan Eikenberry
X-ALT-DESC;FMTTYPE=text/html:Part 3 of lecture series: &nbsp\;Modern Humans: &nbsp\;A Travelogue<br />\nPresented by Dan Eikenberry
LOCATION:U.S. Forest Service Building\, Walker
UID:e.11.8879
SEQUENCE:3
DTSTAMP:20260421T191033Z
URL:https://leechlake.mobileappview.com/events/details/migration-to-the-western-hemisphere-part-3-8879
END:VEVENT

END:VCALENDAR
