BEGIN:VCALENDAR
VERSION:2.0
PRODID:-//ChamberMaster//Event Calendar 2.0//EN
METHOD:PUBLISH
X-PUBLISHED-TTL:P3D
REFRESH-INTERVAL:P3D
CALSCALE:GREGORIAN
BEGIN:VEVENT
DTSTART;VALUE=DATE:20160715
DTEND;VALUE=DATE:20160718
TRANSP:TRANSPARENT
X-MICROSOFT-CDO-ALLDAYEVENT:TRUE
SUMMARY:Mii Gwitch Mahnomen Pow Wow
DESCRIPTION:Mii Gwitch Mahnomen Days 54th Traditional Pow Wow At Ball Lake\, MN.  For more information contact LaVonne Thompson/Event Coordinator 28-308-3680  lavonne.thompson@leechlakegaming.com
X-ALT-DESC;FMTTYPE=text/html:Mii Gwitch&nbsp\;Mahnomen&nbsp\;Days 54th&nbsp\;Traditional Pow Wow At Ball Lake\, MN. &nbsp\;For more information contact LaVonne&nbsp\;Thompson/Event Coordinator 28-308-3680 &nbsp\;lavonne.thompson@leechlakegaming.com
LOCATION:
UID:e.11.8367
SEQUENCE:3
DTSTAMP:20260421T223400Z
URL:https://leechlake.mobileappview.com/events/details/mii-gwitch-mahnomen-pow-wow-07-15-2016-8367
END:VEVENT

END:VCALENDAR
