BEGIN:VCALENDAR
VERSION:2.0
PRODID:-//ChamberMaster//Event Calendar 2.0//EN
METHOD:PUBLISH
X-PUBLISHED-TTL:P3D
REFRESH-INTERVAL:P3D
CALSCALE:GREGORIAN
BEGIN:VEVENT
DTSTART;VALUE=DATE:20170714
DTEND;VALUE=DATE:20170717
TRANSP:TRANSPARENT
X-MICROSOFT-CDO-ALLDAYEVENT:TRUE
SUMMARY:Mii Gwitch Mahonomen Days Pow Wow
DESCRIPTION:Mii Gwitch Mahnomen Days\n\n54th Annual Traditional Pow Wow
X-ALT-DESC;FMTTYPE=text/html:Mii Gwitch&nbsp\;Mahnomen Days<br />\n54th Annual Traditional Pow Wow
LOCATION:Ball Club\, MN
UID:e.11.9521
SEQUENCE:3
DTSTAMP:20260421T025833Z
URL:https://leechlake.mobileappview.com/events/details/mii-gwitch-mahonomen-days-pow-wow-9521
END:VEVENT

END:VCALENDAR
