BEGIN:VCALENDAR
VERSION:2.0
PRODID:-//ChamberMaster//Event Calendar 2.0//EN
METHOD:PUBLISH
X-PUBLISHED-TTL:P3D
REFRESH-INTERVAL:P3D
CALSCALE:GREGORIAN
BEGIN:VEVENT
DTSTART;VALUE=DATE:20180811
DTEND;VALUE=DATE:20180813
TRANSP:TRANSPARENT
X-MICROSOFT-CDO-ALLDAYEVENT:TRUE
SUMMARY:Minnesota Indian Golf Classic -Tianna Country Club
DESCRIPTION:Two Day Tournament\n\nOn Course Events\n\nAwards and Dinner
X-ALT-DESC;FMTTYPE=text/html:Two Day Tournament<br />\nOn Course Events<br />\nAwards and Dinner
LOCATION:Tianna Country Club Walker\, MN
UID:e.11.9046
SEQUENCE:3
DTSTAMP:20260420T062635Z
URL:https://leechlake.mobileappview.com/events/details/minnesota-indian-golf-classic-tianna-country-club-9046
END:VEVENT

END:VCALENDAR
