BEGIN:VCALENDAR
VERSION:2.0
PRODID:-//ChamberMaster//Event Calendar 2.0//EN
METHOD:PUBLISH
X-PUBLISHED-TTL:P3D
REFRESH-INTERVAL:P3D
CALSCALE:GREGORIAN
BEGIN:VEVENT
DTSTART;VALUE=DATE:20180620
DTEND;VALUE=DATE:20180621
TRANSP:TRANSPARENT
X-MICROSOFT-CDO-ALLDAYEVENT:TRUE
SUMMARY:Minnesota Twins Game
DESCRIPTION:Sunday June 10th
X-ALT-DESC;FMTTYPE=text/html:Sunday June 10th
LOCATION:
UID:e.11.16427
SEQUENCE:3
DTSTAMP:20260420T091840Z
URL:https://leechlake.mobileappview.com/events/details/minnesota-twins-game-16427
END:VEVENT

END:VCALENDAR
