BEGIN:VCALENDAR
VERSION:2.0
PRODID:-//ChamberMaster//Event Calendar 2.0//EN
METHOD:PUBLISH
X-PUBLISHED-TTL:P3D
REFRESH-INTERVAL:P3D
CALSCALE:GREGORIAN
BEGIN:VEVENT
DTSTART;VALUE=DATE:20180718
DTEND;VALUE=DATE:20180722
TRANSP:TRANSPARENT
X-MICROSOFT-CDO-ALLDAYEVENT:TRUE
SUMMARY:Moondance Jam's 27th Anniversary
DESCRIPTION:Life is Always Better at Moondance\n\nThe festival that put you up front
X-ALT-DESC;FMTTYPE=text/html:Life is Always Better at Moondance<br />\nThe festival that put you up front
LOCATION:Walker\, MN
UID:e.11.9021
SEQUENCE:3
DTSTAMP:20260420T075117Z
URL:https://leechlake.mobileappview.com/events/details/moondance-jam-s-27th-anniversary-9021
END:VEVENT

END:VCALENDAR
