BEGIN:VCALENDAR
VERSION:2.0
PRODID:-//ChamberMaster//Event Calendar 2.0//EN
METHOD:PUBLISH
X-PUBLISHED-TTL:P3D
REFRESH-INTERVAL:P3D
CALSCALE:GREGORIAN
BEGIN:VEVENT
DTSTART:20170519T003000Z
DTEND:20170519T013000Z
X-MICROSOFT-CDO-ALLDAYEVENT:FALSE
SUMMARY:Morning Mixer - Edward Jones Investments
DESCRIPTION:Business After Hours - Edward Jones Investment\n\n Please join us for some fun!\n\nBring your business card for split the pot.
X-ALT-DESC;FMTTYPE=text/html:Business After Hours - Edward Jones Investment<br />\n&#8203\;Please join us for some fun!<br />\nBring your business card for split the pot.
LOCATION:110 Michigan Ave. W. Suite C
UID:e.11.9070
SEQUENCE:3
DTSTAMP:20260421T062016Z
URL:https://leechlake.mobileappview.com/events/details/morning-mixer-edward-jones-investments-9070
END:VEVENT

END:VCALENDAR
