BEGIN:VCALENDAR
VERSION:2.0
PRODID:-//ChamberMaster//Event Calendar 2.0//EN
METHOD:PUBLISH
X-PUBLISHED-TTL:P3D
REFRESH-INTERVAL:P3D
CALSCALE:GREGORIAN
BEGIN:VEVENT
DTSTART;VALUE=DATE:20171020
DTEND;VALUE=DATE:20171023
TRANSP:TRANSPARENT
X-MICROSOFT-CDO-ALLDAYEVENT:TRUE
SUMMARY:Mother/Daughter Getaway
DESCRIPTION:Bring your daughters for a weekend of fun activities that will help give you a renewed understanding of one another.
X-ALT-DESC;FMTTYPE=text/html:Bring your daughters for a weekend of fun activities that will help give you a renewed understanding of one another.
LOCATION:Camp Bliss 6150 Camp Fish Road Walker\, MN
UID:e.11.9441
SEQUENCE:3
DTSTAMP:20260420T220533Z
URL:https://leechlake.mobileappview.com/events/details/mother-daughter-getaway-9441
END:VEVENT

END:VCALENDAR
