BEGIN:VCALENDAR
VERSION:2.0
PRODID:-//ChamberMaster//Event Calendar 2.0//EN
METHOD:PUBLISH
X-PUBLISHED-TTL:P3D
REFRESH-INTERVAL:P3D
CALSCALE:GREGORIAN
BEGIN:VEVENT
DTSTART:20190629T193000Z
DTEND:20190629T213000Z
X-MICROSOFT-CDO-ALLDAYEVENT:FALSE
SUMMARY:Music at Forestedge Winery
DESCRIPTION:Come join us for some music and wine to start your July 4th celebration.  Listen to Jim and Molly play while sipping on one of Forestedge's limited edition wines or an old favorite.\n\n\n\n \n\n\n\n#ForestedgeWinery #OnlyInMN
X-ALT-DESC;FMTTYPE=text/html:<div style="text-align:left">\n<div style="text-align:left"><span style="font-family:helvetica\,arial\,sans-serif"><span style="font-family:helvetica\,arial\,sans-serif">Come join us for some music and wine to start your July 4th celebration.&nbsp\; Listen to Jim and Molly play while sipping on one of Forestedge&#39\;s limited edition wines or an old favorite.</span></span></div>\n</div>\n\n<div style="text-align:left">\n<div style="text-align:left">&nbsp\;</div>\n</div>\n\n<div style="text-align:left">\n<div style="text-align:left"><span style="background-color:rgba(88\, 144\, 255\, 0.15)\; font-family:helvetica\,arial\,sans-serif"><span style="font-family:helvetica\,arial\,sans-serif"><span style="font-family:helvetica\,arial\,sans-serif">#ForestedgeWinery</span></span></span><span style="font-family:helvetica\,arial\,sans-serif"><span style="font-family:helvetica\,arial\,sans-serif"> </span></span><span style="background-color:rgba(88\, 144\, 255\, 0.15)\; font-family:helvetica\,arial\,sans-serif"><span style="font-family:helvetica\,arial\,sans-serif"><span style="font-family:helvetica\,arial\,sans-serif">#OnlyInMN</span></span></span></div>\n</div>\n
LOCATION:
UID:e.11.21736
SEQUENCE:3
DTSTAMP:20260419T152219Z
URL:https://leechlake.mobileappview.com/events/details/music-at-forestedge-winery-21736
END:VEVENT

END:VCALENDAR
