BEGIN:VCALENDAR
VERSION:2.0
PRODID:-//ChamberMaster//Event Calendar 2.0//EN
METHOD:PUBLISH
X-PUBLISHED-TTL:P3D
REFRESH-INTERVAL:P3D
CALSCALE:GREGORIAN
BEGIN:VEVENT
DTSTART;VALUE=DATE:20180423
DTEND;VALUE=DATE:20180424
TRANSP:TRANSPARENT
X-MICROSOFT-CDO-ALLDAYEVENT:TRUE
SUMMARY:Music Night - American Legion
DESCRIPTION:Oldies but Goldies\n\nMusic Night\n\n\n\nBring your dance Shoes or somebody to slow dance with
X-ALT-DESC;FMTTYPE=text/html:Oldies but Goldies<br />\nMusic Night<br />\n<br />\nBring your dance Shoes or somebody to slow dance with
LOCATION:Spencer Ross American Legion
UID:e.11.15152
SEQUENCE:3
DTSTAMP:20260420T124047Z
URL:https://leechlake.mobileappview.com/events/details/music-night-american-legion-15152
END:VEVENT

END:VCALENDAR
