BEGIN:VCALENDAR
VERSION:2.0
PRODID:-//ChamberMaster//Event Calendar 2.0//EN
METHOD:PUBLISH
X-PUBLISHED-TTL:P3D
REFRESH-INTERVAL:P3D
CALSCALE:GREGORIAN
BEGIN:VEVENT
DTSTART:20180114T000000Z
DTEND:20180114T020000Z
X-MICROSOFT-CDO-ALLDAYEVENT:FALSE
SUMMARY:Music with Donny Williams
DESCRIPTION:https://www.facebook.com/events/1980328005626275/
X-ALT-DESC;FMTTYPE=text/html:https://www.facebook.com/events/1980328005626275/
LOCATION:Portage Brewery
UID:e.11.12786
SEQUENCE:3
DTSTAMP:20260420T171554Z
URL:https://leechlake.mobileappview.com/events/details/music-with-donny-williams-12786
END:VEVENT

END:VCALENDAR
