BEGIN:VCALENDAR
VERSION:2.0
PRODID:-//ChamberMaster//Event Calendar 2.0//EN
METHOD:PUBLISH
X-PUBLISHED-TTL:P3D
REFRESH-INTERVAL:P3D
CALSCALE:GREGORIAN
BEGIN:VEVENT
DTSTART:20180222T230000Z
DTEND:20180223T040000Z
X-MICROSOFT-CDO-ALLDAYEVENT:FALSE
SUMMARY:Mystery Progressive Dinner Tour
DESCRIPTION:Join Fun Time Field Trips for this journey of food and hospitality!  At 5:00\, you're invited to start arriving at a mystery location in downtown Bemidji\, where you will enjoy a pre-dinner drink and an appetizer before boarding a luxury coach bus at 6:00 to depart for your next course!. Adventure awaits as we hit the road and experience some of the highlights of our region. No planning\, no stress\, just sign up and enjoy the evening! This is NOT your average night out on the town...this is a culinary adventure!\n\n Couples\, friends\, siblings\, or singles...there's fun for all on the Fun Time Field Trips Mystery Progressive Dinner Tour! \n\nCost: \n\n$74 per person\n\n Price includes: \n\n\n	Coach Bus fare\n	appetizer\n	salad\n	main course\n	dessert\n	coffee\n	soft drink\n	1 glass of beer\, wine or rail cocktail (additional alcoholic and non-alcoholic beverages will be available for purchase\, and you may BYOB on the bus as well)\n	VIP treatment!\n\n\n 5:00pm-10:00pm \n\nNote** bus doesn't depart from our meeting spot until 6:00 pm\, so if you can't arrive by 5\, it's okay. Drinks and appetizers will be served from 5-6\n\n The location of our first stop in downtown Bemidji will be revealed the day before our tour. This will be our meeting spot\, and where the bus will pick us up from. You will be informed of the best place to park your vehicle. \n\n  NOTE:Tickets are non-refundable. In the event that Fun Time Field Trips cancels the tour due to not meeting our minimum number of passengers\, tickets will be fully refunded.
X-ALT-DESC;FMTTYPE=text/html:<p class="gmail-font8"><span style="font-size:13.0pt\;font-family:&quot\;Times New Roman&quot\;\,serif">Join Fun Time Field Trips for this journey of food and hospitality!&nbsp\; At 5:00\, you&#39\;re invited to start arriving at a mystery location in downtown Bemidji\, where you will enjoy a pre-dinner drink and an appetizer before boarding a luxury coach bus at 6:00 to depart for your next course!. Adventure awaits as we hit the road and experience some of the highlights of our region. No planning\, no stress\, just sign up and enjoy the evening! This is NOT your average night out on the town...this is a culinary adventure!</span><span style="font-size:13.0pt"><o:p></o:p></span></p>\n\n<p class="gmail-font8"><span class="gmail-wixguard"><span style="font-size:13.0pt\;\nfont-family:&quot\;Times New Roman&quot\;\,serif">&#8203\;</span></span><span style="font-size:\n13.0pt\;font-family:&quot\;Times New Roman&quot\;\,serif">Couples\, friends\, siblings\, or singles...there&#39\;s fun for all on the Fun Time Field Trips Mystery Progressive Dinner Tour!</span><span style="font-size:13.0pt"> <o:p></o:p></span></p>\n\n<p class="gmail-font8"><span style="font-size:13.0pt\;font-family:&quot\;Times New Roman&quot\;\,serif">Cost:</span><span style="font-size:13.0pt"> <o:p></o:p></span></p>\n\n<p class="gmail-font8"><span style="font-size:13.0pt\;font-family:&quot\;Times New Roman&quot\;\,serif">$74 per person</span><span style="font-size:13.0pt"><o:p></o:p></span></p>\n\n<p class="gmail-font8"><span class="gmail-wixguard"><span style="font-size:13.0pt\;\nfont-family:&quot\;Times New Roman&quot\;\,serif">&#8203\;</span></span><span style="font-size:\n13.0pt\;font-family:&quot\;Times New Roman&quot\;\,serif">Price includes:</span><span style="font-size:13.0pt"> <o:p></o:p></span></p>\n\n<ul type="disc">\n	<li class="gmail-font8"><span style="font-size:13.0pt\;font-family:&quot\;Times New Roman&quot\;\,serif">Coach Bus fare<o:p></o:p></span></li>\n	<li class="gmail-font8"><span style="font-size:13.0pt\;font-family:&quot\;Times New Roman&quot\;\,serif">appetizer<o:p></o:p></span></li>\n	<li class="gmail-font8"><span style="font-size:13.0pt\;font-family:&quot\;Times New Roman&quot\;\,serif">salad<o:p></o:p></span></li>\n	<li class="gmail-font8"><span style="font-size:13.0pt\;font-family:&quot\;Times New Roman&quot\;\,serif">main course<o:p></o:p></span></li>\n	<li class="gmail-font8"><span style="font-size:13.0pt\;font-family:&quot\;Times New Roman&quot\;\,serif">dessert<o:p></o:p></span></li>\n	<li class="gmail-font8"><span style="font-size:13.0pt\;font-family:&quot\;Times New Roman&quot\;\,serif">coffee<o:p></o:p></span></li>\n	<li class="gmail-font8"><span style="font-size:13.0pt\;font-family:&quot\;Times New Roman&quot\;\,serif">soft drink<o:p></o:p></span></li>\n	<li class="gmail-font8"><span style="font-size:13.0pt\;font-family:&quot\;Times New Roman&quot\;\,serif">1 glass of beer\, wine or rail cocktail (additional alcoholic and non-alcoholic beverages will be available for purchase\, and you may BYOB on the bus as well)<o:p></o:p></span></li>\n	<li class="gmail-font8"><span style="font-size:13.0pt\;font-family:&quot\;Times New Roman&quot\;\,serif">VIP treatment!<o:p></o:p></span></li>\n</ul>\n\n<p class="gmail-font8"><span class="gmail-wixguard"><span style="font-size:13.0pt\;\nfont-family:&quot\;Times New Roman&quot\;\,serif">&#8203\;</span></span><span style="font-size:\n13.0pt\;font-family:&quot\;Times New Roman&quot\;\,serif">5:00pm-10:00pm </span><span style="font-size:13.0pt"><o:p></o:p></span></p>\n\n<p class="gmail-font8"><span style="font-size:13.0pt\;font-family:&quot\;Times New Roman&quot\;\,serif">Note** bus doesn&#39\;t depart from our meeting spot until 6:00 pm\, so if you can&#39\;t arrive by 5\, it&#39\;s okay. Drinks and appetizers will be served from 5-6</span><span style="font-size:13.0pt"><o:p></o:p></span></p>\n\n<p class="gmail-font8"><span class="gmail-wixguard"><span style="font-size:13.0pt\;\nfont-family:&quot\;Times New Roman&quot\;\,serif">&#8203\;</span></span><span style="font-size:\n13.0pt\;font-family:&quot\;Times New Roman&quot\;\,serif">The location of our first stop in downtown Bemidji will be revealed the day before our tour. This will be our meeting spot\, and where the bus will pick us up from. You will be informed of the best place to park your vehicle.</span><span style="font-size:13.0pt"> <o:p></o:p></span></p>\n\n<p class="gmail-font8"><span class="gmail-wixguard"><span style="font-size:13.0pt\;\nfont-family:&quot\;Times New Roman&quot\;\,serif">&#8203\;&#8203\;</span></span><span style="font-size:\n13.0pt\;font-family:&quot\;Times New Roman&quot\;\,serif">NOTE:Tickets are non-refundable. In the event that Fun Time Field Trips cancels the tour due to not meeting our minimum number of passengers\, tickets will be fully refunded.</span><span style="font-size:13.0pt"> <o:p></o:p></span></p>\n
LOCATION:Bemidji
UID:e.11.12978
SEQUENCE:3
DTSTAMP:20260420T153258Z
URL:https://leechlake.mobileappview.com/events/details/mystery-progressive-dinner-tour-12978
END:VEVENT

END:VCALENDAR
