BEGIN:VCALENDAR
VERSION:2.0
PRODID:-//ChamberMaster//Event Calendar 2.0//EN
METHOD:PUBLISH
X-PUBLISHED-TTL:P3D
REFRESH-INTERVAL:P3D
CALSCALE:GREGORIAN
BEGIN:VEVENT
DTSTART;VALUE=DATE:20171231
DTEND;VALUE=DATE:20180101
TRANSP:TRANSPARENT
X-MICROSOFT-CDO-ALLDAYEVENT:TRUE
SUMMARY:New Year Nosh Party
DESCRIPTION:Portage Brewery    \n\nNew Years Nosh Party\n\nCheck us out on facebook
X-ALT-DESC;FMTTYPE=text/html:Portage Brewery&nbsp\;&nbsp\;&nbsp\;&nbsp\;<br />\nNew Years Nosh Party<br />\nCheck us out on facebook
LOCATION:Portage Brewery Walker\, MN
UID:e.11.12558
SEQUENCE:3
DTSTAMP:20260420T185459Z
URL:https://leechlake.mobileappview.com/events/details/new-year-nosh-party-12558
END:VEVENT

END:VCALENDAR
