BEGIN:VCALENDAR
VERSION:2.0
PRODID:-//ChamberMaster//Event Calendar 2.0//EN
METHOD:PUBLISH
X-PUBLISHED-TTL:P3D
REFRESH-INTERVAL:P3D
CALSCALE:GREGORIAN
BEGIN:VEVENT
DTSTART:20181125T013000Z
DTEND:20181125T030000Z
X-MICROSOFT-CDO-ALLDAYEVENT:FALSE
SUMMARY:Night Before Christmas-Walker Bay Theatre
DESCRIPTION:Retelling of the famous Children's Story
X-ALT-DESC;FMTTYPE=text/html:Retelling of the famous Children&#39\;s Story
LOCATION:Walker Bay Theatre 100 Highland Ave NW Walker
UID:e.11.12133
SEQUENCE:3
DTSTAMP:20260420T021918Z
URL:https://leechlake.mobileappview.com/events/details/night-before-christmas-walker-bay-theatre-12133
END:VEVENT

END:VCALENDAR
