BEGIN:VCALENDAR
VERSION:2.0
PRODID:-//ChamberMaster//Event Calendar 2.0//EN
METHOD:PUBLISH
X-PUBLISHED-TTL:P3D
REFRESH-INTERVAL:P3D
CALSCALE:GREGORIAN
BEGIN:VEVENT
DTSTART;VALUE=DATE:20190221
DTEND;VALUE=DATE:20190223
TRANSP:TRANSPARENT
X-MICROSOFT-CDO-ALLDAYEVENT:TRUE
SUMMARY:North Country Buyers Show
DESCRIPTION:Click Here\n\n44th Annual North Resort\, Retail & Restaurant Buyers Show
X-ALT-DESC;FMTTYPE=text/html:<a href="https://chambermaster.blob.core.windows.net/userfiles/UserFiles/chambers/11/File/NorthCountryBuyersShow.jpg">Click Here</a><br />\n44th Annual North Resort\, Retail &amp\; Restaurant Buyers Show
LOCATION:Northern Lights Event Center
UID:e.11.18027
SEQUENCE:3
DTSTAMP:20260419T214145Z
URL:https://leechlake.mobileappview.com/events/details/north-country-buyers-show-18027
END:VEVENT

END:VCALENDAR
