BEGIN:VCALENDAR
VERSION:2.0
PRODID:-//ChamberMaster//Event Calendar 2.0//EN
METHOD:PUBLISH
X-PUBLISHED-TTL:P3D
REFRESH-INTERVAL:P3D
CALSCALE:GREGORIAN
BEGIN:VEVENT
DTSTART:20170916T140000Z
DTEND:20170916T190000Z
X-MICROSOFT-CDO-ALLDAYEVENT:FALSE
SUMMARY:North Country Marathon and 10K\, 34th Annual - WACC
DESCRIPTION:marathon-half marathon- 10 K
X-ALT-DESC;FMTTYPE=text/html:marathon-half marathon- 10 K
LOCATION:Ostlund Field
UID:e.11.9167
SEQUENCE:3
DTSTAMP:20260420T234513Z
URL:https://leechlake.mobileappview.com/events/details/north-country-marathon-and-10k-34th-annual-wacc-9167
END:VEVENT

END:VCALENDAR
