BEGIN:VCALENDAR
VERSION:2.0
PRODID:-//ChamberMaster//Event Calendar 2.0//EN
METHOD:PUBLISH
X-PUBLISHED-TTL:P3D
REFRESH-INTERVAL:P3D
CALSCALE:GREGORIAN
BEGIN:VEVENT
DTSTART;VALUE=DATE:20160917
DTEND;VALUE=DATE:20160918
TRANSP:TRANSPARENT
X-MICROSOFT-CDO-ALLDAYEVENT:TRUE
SUMMARY:North Country Marathon and 10K-WACC
DESCRIPTION:http://walkernorthcountrymarathon.com/\n\nCelebrate the big finish at the top!\n\nWalker North Country Marathon
X-ALT-DESC;FMTTYPE=text/html:http://walkernorthcountrymarathon.com/<br />\nCelebrate the big finish at the top!<br />\nWalker North Country Marathon
LOCATION:Walker\, MN
UID:e.11.5115
SEQUENCE:3
DTSTAMP:20260421T191527Z
URL:https://leechlake.mobileappview.com/events/details/north-country-marathon-and-10k-wacc-09-17-2016-5115
END:VEVENT

END:VCALENDAR
