BEGIN:VCALENDAR
VERSION:2.0
PRODID:-//ChamberMaster//Event Calendar 2.0//EN
METHOD:PUBLISH
X-PUBLISHED-TTL:P3D
REFRESH-INTERVAL:P3D
CALSCALE:GREGORIAN
BEGIN:VEVENT
DTSTART;VALUE=DATE:20180825
DTEND;VALUE=DATE:20180826
TRANSP:TRANSPARENT
X-MICROSOFT-CDO-ALLDAYEVENT:TRUE
SUMMARY:North Country Trail Hike Fest
DESCRIPTION:
X-ALT-DESC;FMTTYPE=text/html:
LOCATION:Itasca STate Park
UID:e.11.12205
SEQUENCE:3
DTSTAMP:20260420T062320Z
URL:https://leechlake.mobileappview.com/events/details/north-country-trail-hike-fest-12205
END:VEVENT

END:VCALENDAR
