BEGIN:VCALENDAR
VERSION:2.0
PRODID:-//ChamberMaster//Event Calendar 2.0//EN
METHOD:PUBLISH
X-PUBLISHED-TTL:P3D
REFRESH-INTERVAL:P3D
CALSCALE:GREGORIAN
BEGIN:VEVENT
DTSTART:20180220T233000Z
DTEND:20180221T010000Z
X-MICROSOFT-CDO-ALLDAYEVENT:FALSE
SUMMARY:Northern Cass Women's Networking
DESCRIPTION:Jamie Lee and Rose Clack presenters on "Getting to know you!"
X-ALT-DESC;FMTTYPE=text/html:<p><span style="font-size:10.0pt\;font-family:&quot\;Tahoma&quot\;\,sans-serif\;color:black">Jamie Lee and Rose Clack presenters on &quot\;Getting to know you!&quot\;&nbsp\;<o:p></o:p></span></p>\n
LOCATION:Camp Bliss
UID:e.11.13397
SEQUENCE:3
DTSTAMP:20260420T153417Z
URL:https://leechlake.mobileappview.com/events/details/northern-cass-women-s-networking-13397
END:VEVENT

END:VCALENDAR
