BEGIN:VCALENDAR
VERSION:2.0
PRODID:-//ChamberMaster//Event Calendar 2.0//EN
METHOD:PUBLISH
X-PUBLISHED-TTL:P3D
REFRESH-INTERVAL:P3D
CALSCALE:GREGORIAN
BEGIN:VEVENT
DTSTART:20160924T150000Z
DTEND:20160924T200000Z
X-MICROSOFT-CDO-ALLDAYEVENT:FALSE
SUMMARY:Northern Lights Car Show Sponsored by KK Radio
DESCRIPTION:
X-ALT-DESC;FMTTYPE=text/html:
LOCATION:
UID:e.11.8859
SEQUENCE:3
DTSTAMP:20260421T191552Z
URL:https://leechlake.mobileappview.com/events/details/northern-lights-car-show-sponsored-by-kk-radio-8859
END:VEVENT

END:VCALENDAR
