BEGIN:VCALENDAR
VERSION:2.0
PRODID:-//ChamberMaster//Event Calendar 2.0//EN
METHOD:PUBLISH
X-PUBLISHED-TTL:P3D
REFRESH-INTERVAL:P3D
CALSCALE:GREGORIAN
BEGIN:VEVENT
DTSTART;VALUE=DATE:20180824
DTEND;VALUE=DATE:20180825
TRANSP:TRANSPARENT
X-MICROSOFT-CDO-ALLDAYEVENT:TRUE
SUMMARY:Northern Lights/Cheech & Chong
DESCRIPTION:Entertainment
X-ALT-DESC;FMTTYPE=text/html:Entertainment
LOCATION:Northern Lights/Cheech & Chong
UID:e.11.16537
SEQUENCE:3
DTSTAMP:20260420T062054Z
URL:https://leechlake.mobileappview.com/events/details/northern-lights-cheech-chong-16537
END:VEVENT

END:VCALENDAR
