BEGIN:VCALENDAR
VERSION:2.0
PRODID:-//ChamberMaster//Event Calendar 2.0//EN
METHOD:PUBLISH
X-PUBLISHED-TTL:P3D
REFRESH-INTERVAL:P3D
CALSCALE:GREGORIAN
BEGIN:VEVENT
DTSTART;VALUE=DATE:20180908
DTEND;VALUE=DATE:20180909
TRANSP:TRANSPARENT
X-MICROSOFT-CDO-ALLDAYEVENT:TRUE
SUMMARY:Northstar Sportmen's Club Annual Meeting and Elections
DESCRIPTION:
X-ALT-DESC;FMTTYPE=text/html:
LOCATION:
UID:e.11.12532
SEQUENCE:3
DTSTAMP:20260420T051527Z
URL:https://leechlake.mobileappview.com/events/details/northstar-sportmen-s-club-annual-meeting-and-elections-12532
END:VEVENT

END:VCALENDAR
