BEGIN:VCALENDAR
VERSION:2.0
PRODID:-//ChamberMaster//Event Calendar 2.0//EN
METHOD:PUBLISH
X-PUBLISHED-TTL:P3D
REFRESH-INTERVAL:P3D
CALSCALE:GREGORIAN
BEGIN:VEVENT
DTSTART:20171030T153000Z
DTEND:20171103T210000Z
X-MICROSOFT-CDO-ALLDAYEVENT:FALSE
SUMMARY:Northstar Sportmens Rifle sight in
DESCRIPTION:Deer Hunter Rifle Sight in
X-ALT-DESC;FMTTYPE=text/html:Deer Hunter Rifle Sight in
LOCATION:Northstar Sportsmens Range
UID:e.11.12474
SEQUENCE:3
DTSTAMP:20260420T203404Z
URL:https://leechlake.mobileappview.com/events/details/northstar-sportmens-rifle-sight-in-12474
END:VEVENT

END:VCALENDAR
