BEGIN:VCALENDAR
VERSION:2.0
PRODID:-//ChamberMaster//Event Calendar 2.0//EN
METHOD:PUBLISH
X-PUBLISHED-TTL:P3D
REFRESH-INTERVAL:P3D
CALSCALE:GREGORIAN
BEGIN:VEVENT
DTSTART;VALUE=DATE:20170430
DTEND;VALUE=DATE:20170501
TRANSP:TRANSPARENT
X-MICROSOFT-CDO-ALLDAYEVENT:TRUE
SUMMARY:Northstar Sportsman Archery Shoot
DESCRIPTION:
X-ALT-DESC;FMTTYPE=text/html:
LOCATION:10215 Rifle Range Dr. NW Walker
UID:e.11.8977
SEQUENCE:3
DTSTAMP:20260421T075756Z
URL:https://leechlake.mobileappview.com/events/details/northstar-sportsman-archery-shoot-04-30-2017-8977
END:VEVENT

END:VCALENDAR
