BEGIN:VCALENDAR
VERSION:2.0
PRODID:-//ChamberMaster//Event Calendar 2.0//EN
METHOD:PUBLISH
X-PUBLISHED-TTL:P3D
REFRESH-INTERVAL:P3D
CALSCALE:GREGORIAN
BEGIN:VEVENT
DTSTART:20181031T230000Z
DTEND:20181101T020000Z
X-MICROSOFT-CDO-ALLDAYEVENT:FALSE
SUMMARY:Northstar Sportsman Shooting Club monthly meeting.
DESCRIPTION:Monthly meeting of the Northstar Sportsmans Shooting Club. Location is in the Walker Community Center. Members welcome!
X-ALT-DESC;FMTTYPE=text/html:Monthly meeting of the Northstar Sportsmans Shooting Club. Location is in the Walker Community Center. Members welcome!
LOCATION:
UID:e.11.18093
SEQUENCE:3
DTSTAMP:20260420T035109Z
URL:https://leechlake.mobileappview.com/events/details/northstar-sportsman-shooting-club-monthly-meeting-18093
END:VEVENT

END:VCALENDAR
