BEGIN:VCALENDAR
VERSION:2.0
PRODID:-//ChamberMaster//Event Calendar 2.0//EN
METHOD:PUBLISH
X-PUBLISHED-TTL:P3D
REFRESH-INTERVAL:P3D
CALSCALE:GREGORIAN
BEGIN:VEVENT
DTSTART;VALUE=DATE:20170909
DTEND;VALUE=DATE:20170910
TRANSP:TRANSPARENT
X-MICROSOFT-CDO-ALLDAYEVENT:TRUE
SUMMARY:Northstar Sportsmen Club Annual Meeting and Elections
DESCRIPTION:
X-ALT-DESC;FMTTYPE=text/html:
LOCATION:10215 Rifle Range Dr NW
UID:e.11.8978
SEQUENCE:3
DTSTAMP:20260420T234955Z
URL:https://leechlake.mobileappview.com/events/details/northstar-sportsmen-club-annual-meeting-and-elections-8978
END:VEVENT

END:VCALENDAR
