BEGIN:VCALENDAR
VERSION:2.0
PRODID:-//ChamberMaster//Event Calendar 2.0//EN
METHOD:PUBLISH
X-PUBLISHED-TTL:P3D
REFRESH-INTERVAL:P3D
CALSCALE:GREGORIAN
BEGIN:VEVENT
DTSTART:20160430T223000Z
DTEND:20160501T030000Z
X-MICROSOFT-CDO-ALLDAYEVENT:FALSE
SUMMARY:Northstar Sportsmen's Club Annual Banquet
DESCRIPTION:Annual Fundraising Banquet\n\nWild Game Appetizers and Pork Prime Rib Dinner
X-ALT-DESC;FMTTYPE=text/html:Annual Fundraising Banquet<br />\nWild Game Appetizers and Pork Prime Rib Dinner<br />\n&nbsp\;
LOCATION:Moondance Event Center
UID:e.11.5279
SEQUENCE:3
DTSTAMP:20260422T031510Z
URL:https://leechlake.mobileappview.com/events/details/northstar-sportsmen-s-club-annual-banquet-04-30-2016-5279
END:VEVENT

END:VCALENDAR
